BEGIN:VCALENDAR
VERSION:2.0
PRODID:SchoolNow
CALSCALE:GREGORIAN
BEGIN:VEVENT
UID:00fb3df0-c04b-11f0-84a9-0a58a9feac02
DTSTAMP:20251216T214627Z
SUMMARY:Committee Board Meeting
LOCATION:Sparta Meadowview Middle School\, 1225 N Water St\, Sparta\, WI 54
 656\, USA
URL;VALUE=URI:https://www.spartan.org/calendar/8792860/committee-board-meet
 ing
DTSTART:20270712T230000Z
DTEND:20270713T003000Z
END:VEVENT
END:VCALENDAR
