BEGIN:VCALENDAR
VERSION:2.0
PRODID:SchoolNow
CALSCALE:GREGORIAN
BEGIN:VEVENT
UID:99dbbce4-cb3f-11f0-aeb9-0a58a9feac02
DTSTAMP:20251216T214627Z
SUMMARY:Full Board Meeting
LOCATION:Sparta Meadowview Middle School\, 1225 N Water St\, Sparta\, WI 54
 656\, USA
URL;VALUE=URI:https://www.spartan.org/calendar/8810694/full-board-meeting
DTSTART:20270726T230000Z
DTEND:20270727T003000Z
END:VEVENT
END:VCALENDAR
