BEGIN:VCALENDAR
VERSION:2.0
PRODID:SchoolNow
CALSCALE:GREGORIAN
BEGIN:VEVENT
UID:efa985c0-d567-11f0-ba5d-0a58a9feac02
DTSTAMP:20251216T214627Z
SUMMARY:Committee Board Meeting
LOCATION:Sparta Meadowview Middle School\, 1225 N Water St\, Sparta\, WI 54
 656\, USA
URL;VALUE=URI:https://www.spartan.org/calendar/8820919/committee-board-meet
 ing
DTSTART:20270809T230000Z
DTEND:20270810T003000Z
END:VEVENT
END:VCALENDAR
