BEGIN:VCALENDAR
VERSION:2.0
PRODID:SchoolNow
CALSCALE:GREGORIAN
BEGIN:VEVENT
UID:a4a0669a-5c02-11f0-a0ae-02e304f15b6b
DTSTAMP:20260422T191507Z
SUMMARY:No School
URL;VALUE=URI:https://www.spartan.org/schools/meadowview-middle/calendar/83
 95667/no-school
DTSTART;VALUE=DATE:20251222
DTEND;VALUE=DATE:20251227
END:VEVENT
END:VCALENDAR
