BEGIN:VCALENDAR
VERSION:2.0
PRODID:SchoolNow
CALSCALE:GREGORIAN
BEGIN:VEVENT
UID:a4a0680c-5c02-11f0-bae2-02e304f15b6b
DTSTAMP:20260422T191507Z
SUMMARY:No School
URL;VALUE=URI:https://www.spartan.org/schools/meadowview-middle/calendar/83
 95668/no-school
DTSTART;VALUE=DATE:20251229
DTEND;VALUE=DATE:20260103
END:VEVENT
END:VCALENDAR
