BEGIN:VCALENDAR
VERSION:2.0
PRODID:SchoolNow
CALSCALE:GREGORIAN
BEGIN:VEVENT
UID:a4a06a14-5c02-11f0-9958-02e304f15b6b
DTSTAMP:20260422T131007Z
SUMMARY:No School
URL;VALUE=URI:https://www.spartan.org/schools/meadowview-middle/calendar/83
 95670/no-school
DTSTART;VALUE=DATE:20260216
DTEND;VALUE=DATE:20260217
END:VEVENT
END:VCALENDAR
