BEGIN:VCALENDAR
VERSION:2.0
PRODID:SchoolNow
CALSCALE:GREGORIAN
BEGIN:VEVENT
UID:a4a06b04-5c02-11f0-a285-02e304f15b6b
DTSTAMP:20260422T131007Z
SUMMARY:Last Day of School 2 Hour Early Release
URL;VALUE=URI:https://www.spartan.org/schools/meadowview-middle/calendar/83
 95671/last-day-of-school-2-hour-early-release
DTSTART;VALUE=DATE:20260522
DTEND;VALUE=DATE:20260523
END:VEVENT
END:VCALENDAR
