BEGIN:VCALENDAR
VERSION:2.0
PRODID:SchoolNow
CALSCALE:GREGORIAN
BEGIN:VEVENT
UID:f93d307a-6729-11f0-91a3-0a58a9feac02
DTSTAMP:20260422T131007Z
SUMMARY:MVMS Carnival
URL;VALUE=URI:https://www.spartan.org/schools/meadowview-middle/calendar/84
 37629/mvms-carnival
DTSTART:20260303T220000Z
DTEND:20260304T000000Z
END:VEVENT
END:VCALENDAR
