BEGIN:VCALENDAR
VERSION:2.0
PRODID:SchoolNow
CALSCALE:GREGORIAN
BEGIN:VEVENT
UID:e1a4e312-06c1-11f1-9954-0a58a9feac02
DTSTAMP:20260422T131007Z
SUMMARY:Fun Run
URL;VALUE=URI:https://www.spartan.org/schools/meadowview-middle/calendar/88
 52340/fun-run
DTSTART;VALUE=DATE:20260520
DTEND;VALUE=DATE:20260521
END:VEVENT
END:VCALENDAR
