BEGIN:VCALENDAR
VERSION:2.0
PRODID:SchoolNow
CALSCALE:GREGORIAN
BEGIN:VEVENT
UID:e1a4e452-06c1-11f1-9fd7-0a58a9feac02
DTSTAMP:20260422T131007Z
SUMMARY:End Of Year Stations
URL;VALUE=URI:https://www.spartan.org/schools/meadowview-middle/calendar/88
 52341/end-of-year-stations
DTSTART;VALUE=DATE:20260522
DTEND;VALUE=DATE:20260523
END:VEVENT
END:VCALENDAR
