BEGIN:VCALENDAR
VERSION:2.0
PRODID:SchoolNow
CALSCALE:GREGORIAN
BEGIN:VEVENT
UID:e1a4e5ba-06c1-11f1-8249-0a58a9feac02
DTSTAMP:20260422T191507Z
SUMMARY:PBIS Incentives Last Hour of day (1 Hour Release Schedule)
URL;VALUE=URI:https://www.spartan.org/schools/meadowview-middle/calendar/88
 52342/pbis-incentives-last-hour-of-day-1-hour-release-schedule
DTSTART;VALUE=DATE:20260130
DTEND;VALUE=DATE:20260131
END:VEVENT
END:VCALENDAR
