BEGIN:VCALENDAR
VERSION:2.0
PRODID:SchoolNow
CALSCALE:GREGORIAN
BEGIN:VEVENT
UID:e1a4e6dc-06c1-11f1-846e-0a58a9feac02
DTSTAMP:20260422T131007Z
SUMMARY:No School
URL;VALUE=URI:https://www.spartan.org/schools/meadowview-middle/calendar/88
 52343/no-school
DTSTART;VALUE=DATE:20260402
DTEND;VALUE=DATE:20260408
END:VEVENT
END:VCALENDAR
