BEGIN:VCALENDAR
VERSION:2.0
PRODID:SchoolNow
CALSCALE:GREGORIAN
BEGIN:VEVENT
UID:e1a4e7ea-06c1-11f1-826b-0a58a9feac02
DTSTAMP:20260422T131007Z
SUMMARY:Dental Sealants
URL;VALUE=URI:https://www.spartan.org/schools/meadowview-middle/calendar/88
 52344/dental-sealants
DTSTART;VALUE=DATE:20260303
DTEND;VALUE=DATE:20260310
END:VEVENT
END:VCALENDAR
