BEGIN:VCALENDAR
VERSION:2.0
PRODID:SchoolNow
CALSCALE:GREGORIAN
BEGIN:VEVENT
UID:e1a4e916-06c1-11f1-842f-0a58a9feac02
DTSTAMP:20260422T131007Z
SUMMARY:Musical Performances
URL;VALUE=URI:https://www.spartan.org/schools/meadowview-middle/calendar/88
 52345/musical-performances
DTSTART;VALUE=DATE:20260424
DTEND;VALUE=DATE:20260427
END:VEVENT
END:VCALENDAR
