BEGIN:VCALENDAR
VERSION:2.0
PRODID:SchoolNow
CALSCALE:GREGORIAN
BEGIN:VEVENT
UID:e1a4ea74-06c1-11f1-b125-0a58a9feac02
DTSTAMP:20260422T131007Z
SUMMARY:6th Grade Field Trip
URL;VALUE=URI:https://www.spartan.org/schools/meadowview-middle/calendar/88
 52346/6th-grade-field-trip
DTSTART;VALUE=DATE:20260226
DTEND;VALUE=DATE:20260227
END:VEVENT
END:VCALENDAR
