BEGIN:VCALENDAR
VERSION:2.0
PRODID:SchoolNow
CALSCALE:GREGORIAN
BEGIN:VEVENT
UID:e1a4ed62-06c1-11f1-8fd9-0a58a9feac02
DTSTAMP:20260422T131007Z
SUMMARY:8th Grade Celebration
URL;VALUE=URI:https://www.spartan.org/schools/meadowview-middle/calendar/88
 52349/8th-grade-celebration
DTSTART;VALUE=DATE:20260521
DTEND;VALUE=DATE:20260522
END:VEVENT
END:VCALENDAR
