BEGIN:VCALENDAR
VERSION:2.0
PRODID:SchoolNow
CALSCALE:GREGORIAN
BEGIN:VEVENT
UID:e1a4ef4c-06c1-11f1-a491-0a58a9feac02
DTSTAMP:20260422T131007Z
SUMMARY:Spelling Bee
URL;VALUE=URI:https://www.spartan.org/schools/meadowview-middle/calendar/88
 52351/spelling-bee
DTSTART:20260311T133000Z
DTEND:20260311T160000Z
END:VEVENT
END:VCALENDAR
