BEGIN:VCALENDAR
VERSION:2.0
PRODID:SchoolNow
CALSCALE:GREGORIAN
BEGIN:VEVENT
UID:e1a4f208-06c1-11f1-9bf2-0a58a9feac02
DTSTAMP:20260422T131007Z
SUMMARY:Recognition Assembly/ Specials Fun Day
URL;VALUE=URI:https://www.spartan.org/schools/meadowview-middle/calendar/88
 52354/recognition-assembly-specials-fun-day
DTSTART;VALUE=DATE:20260518
DTEND;VALUE=DATE:20260519
END:VEVENT
END:VCALENDAR
