BEGIN:VCALENDAR
VERSION:2.0
PRODID:SchoolNow
CALSCALE:GREGORIAN
BEGIN:VEVENT
UID:fdafc51e-088c-11f1-8a36-0a58a9feac02
DTSTAMP:20260422T131007Z
SUMMARY:4th grade here
URL;VALUE=URI:https://www.spartan.org/schools/meadowview-middle/calendar/88
 54643/4th-grade-here
DTSTART:20260428T131500Z
DTEND:20260428T154500Z
END:VEVENT
END:VCALENDAR
