BEGIN:VCALENDAR
VERSION:2.0
PRODID:SchoolNow
CALSCALE:GREGORIAN
BEGIN:VEVENT
UID:08dee580-11b3-11f1-b605-020dc89c39e3
DTSTAMP:20260422T131007Z
SUMMARY:Student Council Field Trip
URL;VALUE=URI:https://www.spartan.org/schools/meadowview-middle/calendar/88
 69227/student-council-field-trip
DTSTART;VALUE=DATE:20260416
DTEND;VALUE=DATE:20260417
END:VEVENT
END:VCALENDAR
