BEGIN:VCALENDAR
VERSION:2.0
PRODID:SchoolNow
CALSCALE:GREGORIAN
BEGIN:VEVENT
UID:08dee9fe-11b3-11f1-b674-020dc89c39e3
DTSTAMP:20260422T131007Z
SUMMARY:6th Grade Career Day
URL;VALUE=URI:https://www.spartan.org/schools/meadowview-middle/calendar/88
 69228/6th-grade-career-day
DTSTART:20260501T133000Z
DTEND:20260501T163000Z
END:VEVENT
END:VCALENDAR
