BEGIN:VCALENDAR
VERSION:2.0
PRODID:SchoolNow
CALSCALE:GREGORIAN
BEGIN:VEVENT
UID:08deeb70-11b3-11f1-abfb-020dc89c39e3
DTSTAMP:20260422T131007Z
SUMMARY:5th Grade Field Trip
URL;VALUE=URI:https://www.spartan.org/schools/meadowview-middle/calendar/88
 69229/5th-grade-field-trip
DTSTART;VALUE=DATE:20260417
DTEND;VALUE=DATE:20260418
END:VEVENT
END:VCALENDAR
