BEGIN:VCALENDAR
VERSION:2.0
PRODID:SchoolNow
CALSCALE:GREGORIAN
BEGIN:VEVENT
UID:08deece2-11b3-11f1-b495-020dc89c39e3
DTSTAMP:20260422T131007Z
SUMMARY:8th Grade Wellness Day
URL;VALUE=URI:https://www.spartan.org/schools/meadowview-middle/calendar/88
 69230/8th-grade-wellness-day
DTSTART;VALUE=DATE:20260508
DTEND;VALUE=DATE:20260509
END:VEVENT
END:VCALENDAR
