BEGIN:VCALENDAR
VERSION:2.0
PRODID:SchoolNow
CALSCALE:GREGORIAN
BEGIN:VEVENT
UID:256621d6-2933-11f1-b3c4-0a58a9feac02
DTSTAMP:20260422T191507Z
SUMMARY:Mandatory Athletic Code Meeting
URL;VALUE=URI:https://www.spartan.org/schools/meadowview-middle/calendar/89
 47276/mandatory-athletic-code-meeting
DTSTART:20260828T000000Z
DTEND:20260828T010000Z
END:VEVENT
END:VCALENDAR
