BEGIN:VCALENDAR
VERSION:2.0
PRODID:SchoolNow
CALSCALE:GREGORIAN
BEGIN:VEVENT
UID:fb5e8ff0-3854-11f1-98a7-0a58a9feac02
DTSTAMP:20260422T191507Z
SUMMARY:Fundraiser Kick Off
URL;VALUE=URI:https://www.spartan.org/schools/meadowview-middle/calendar/89
 94149/fundraiser-kick-off
DTSTART;VALUE=DATE:20260904
DTEND;VALUE=DATE:20260905
END:VEVENT
END:VCALENDAR
