BEGIN:VCALENDAR
VERSION:2.0
PRODID:SchoolNow
CALSCALE:GREGORIAN
BEGIN:VEVENT
UID:fb5e964e-3854-11f1-8afd-0a58a9feac02
DTSTAMP:20260422T191507Z
SUMMARY:Fundraiser Pick Up
URL;VALUE=URI:https://www.spartan.org/schools/meadowview-middle/calendar/89
 94150/fundraiser-pick-up
DTSTART;VALUE=DATE:20261014
DTEND;VALUE=DATE:20261015
END:VEVENT
END:VCALENDAR
