BEGIN:VCALENDAR
VERSION:2.0
PRODID:SchoolNow
CALSCALE:GREGORIAN
BEGIN:VEVENT
UID:fb5e98f6-3854-11f1-95e4-0a58a9feac02
DTSTAMP:20260422T191507Z
SUMMARY:End of Fundraiser
URL;VALUE=URI:https://www.spartan.org/schools/meadowview-middle/calendar/89
 94151/end-of-fundraiser
DTSTART;VALUE=DATE:20260921
DTEND;VALUE=DATE:20260922
END:VEVENT
END:VCALENDAR
