BEGIN:VCALENDAR
VERSION:2.0
PRODID:SchoolNow
CALSCALE:GREGORIAN
BEGIN:VEVENT
UID:ebaa951a-589e-11ee-afba-0a58a9feac02
DTSTAMP:20230921T225507Z
SUMMARY:Sparta Montessori Community Engagement
URL;VALUE=URI:https://www.spartan.org/schools/sparta-montessori/calendar/47
 74388/sparta-montessori-community-engagement
DTSTART:20230919T210000Z
DTEND:20230919T220000Z
END:VEVENT
END:VCALENDAR
